BEGIN:VCALENDAR
VERSION:2.0
PRODID:-//Tukios.com/
BEGIN:VEVENT
UID:dc8012a1-0f4d-4009-95bc-bf2fd14673bd@www.gandyfh.com
DTSTAMP:20260423T122650Z
DTSTART:20260425T150000Z
DTEND:20260425T160000Z
SUMMARY:Graveside Service
DESCRIPTION:Please note that arrangements are still being finalized, and 
	details are subject to change.
URL:https://www.gandyfh.com/obituaries/eddie-little
LOCATION:   Panola AL 35442
GEO:32.9506839;-88.2689206
END:VEVENT
END:VCALENDAR